BEGIN:VCALENDAR
VERSION:2.0
PRODID:-// - ECPv4.0.7//NONSGML v1.0//EN
CALSCALE:GREGORIAN
METHOD:PUBLISH
X-WR-CALNAME:
X-ORIGINAL-URL:http://www.buchen-sohlbach.de
X-WR-CALDESC:Events for 
BEGIN:VEVENT
DTSTART;TZID="Europe/Berlin":20170826T133000
DTEND;TZID="Europe/Berlin":20170826T170000
DTSTAMP:20260424T045119
CREATED:20170902T155745
LAST-MODIFIED:20170902T155745
UID:2637-1503754200-1503766800@www.buchen-sohlbach.de
SUMMARY:2. Radwanderung 2017  ins "Wendener Land"
DESCRIPTION:2. Radwanderung 2017 durch das Wendener Land. Alle können teilnehmen.\n\nTreffpunkt : 13:30 Uhr am Wanderparkplatz "Hünsborner Höhe" -Kreuzung L564/Siegerland Höhenring\n\nStrecke ca. 28 km\n\n 
URL:http://www.buchen-sohlbach.de/ereignis/2-radwanderung-2017-ins-wendener-land/
LOCATION:Array
CATEGORIES:Heimatverein
END:VEVENT
END:VCALENDAR