BEGIN:VCALENDAR
VERSION:2.0
PRODID:-// - ECPv4.0.7//NONSGML v1.0//EN
CALSCALE:GREGORIAN
METHOD:PUBLISH
X-WR-CALNAME:
X-ORIGINAL-URL:http://www.buchen-sohlbach.de
X-WR-CALDESC:Events for 
BEGIN:VEVENT
DTSTART;TZID="Europe/Berlin":20151017T180000
DTEND;TZID="Europe/Berlin":20151017T230000
DTSTAMP:20260423T234034
CREATED:20151014T211505
LAST-MODIFIED:20151016T203341
UID:1246-1445104800-1445122800@www.buchen-sohlbach.de
SUMMARY:Backschinkenessen
DESCRIPTION:
URL:http://www.buchen-sohlbach.de/ereignis/backschinkenessen/
CATEGORIES:Heimatverein
END:VEVENT
END:VCALENDAR