BEGIN:VCALENDAR
VERSION:2.0
PRODID:-// - ECPv4.0.7//NONSGML v1.0//EN
CALSCALE:GREGORIAN
METHOD:PUBLISH
X-WR-CALNAME:
X-ORIGINAL-URL:http://www.buchen-sohlbach.de
X-WR-CALDESC:Events for 
BEGIN:VEVENT
DTSTART;VALUE=DATE:20160109
DTEND;VALUE=DATE:20160109
DTSTAMP:20260423T183719
CREATED:20151230
LAST-MODIFIED:20151230
UID:1568-1452297600-1452383999@www.buchen-sohlbach.de
SUMMARY:Feuerwehr: Weihnachtsbäume Sammelaktion
DESCRIPTION:Die Feuerwehr kommt am 09.01.2016 bei Dir zu Hause vorbei und holt Deinen Weihnachtsbaum gegen eine Spende ab. Lege doch den Baum an die Straße.
URL:http://www.buchen-sohlbach.de/ereignis/feuerwehr-weihnachtsbaeume-sammelaktion/
LOCATION:Array
CATEGORIES:Feuerwehr
END:VEVENT
END:VCALENDAR