BEGIN:VCALENDAR
VERSION:2.0
PRODID:-// - ECPv4.0.7//NONSGML v1.0//EN
CALSCALE:GREGORIAN
METHOD:PUBLISH
X-WR-CALNAME:
X-ORIGINAL-URL:http://www.buchen-sohlbach.de
X-WR-CALDESC:Events for 
BEGIN:VEVENT
DTSTART;TZID="Europe/Berlin":20251227T093000
DTEND;TZID="Europe/Berlin":20251227T123000
DTSTAMP:20260424T033241
CREATED:20251214T080520
LAST-MODIFIED:20251214T080520
UID:3162-1766827800-1766838600@www.buchen-sohlbach.de
SUMMARY:Grenzgang 2025
DESCRIPTION:Grenzgang 2025
URL:http://www.buchen-sohlbach.de/ereignis/grenzgang-2025-2/
LOCATION:Array
END:VEVENT
END:VCALENDAR