BEGIN:VCALENDAR
VERSION:2.0
PRODID:-// - ECPv4.0.7//NONSGML v1.0//EN
CALSCALE:GREGORIAN
METHOD:PUBLISH
X-WR-CALNAME:
X-ORIGINAL-URL:http://www.buchen-sohlbach.de
X-WR-CALDESC:Events for 
BEGIN:VEVENT
DTSTART;TZID="Europe/Berlin":20160126T190000
DTEND;TZID="Europe/Berlin":20160126T210000
DTSTAMP:20260423T211513
CREATED:20160105T130609
LAST-MODIFIED:20160105T132435
UID:1593-1453834800-1453842000@www.buchen-sohlbach.de
SUMMARY:Heimatverein: 169. Vorstandssitzung
DESCRIPTION:Der Vorstand und Beirat des Heimatvereins Buchen-Sohlbach e.V. kommt um 19:00 Uhr im Heimathaus zusammen\, um anstehende Themen zu besprechen und abzustimmen.
URL:http://www.buchen-sohlbach.de/ereignis/heimatverein-169-vorstandssitzung/
CATEGORIES:Heimatverein
END:VEVENT
END:VCALENDAR