BEGIN:VCALENDAR
VERSION:2.0
PRODID:-// - ECPv4.0.7//NONSGML v1.0//EN
CALSCALE:GREGORIAN
METHOD:PUBLISH
X-WR-CALNAME:
X-ORIGINAL-URL:http://www.buchen-sohlbach.de
X-WR-CALDESC:Events for 
BEGIN:VEVENT
DTSTART;TZID="Europe/Berlin":20160312T200000
DTEND;TZID="Europe/Berlin":20160312T235500
DTSTAMP:20260423T200432
CREATED:20160126T233344
LAST-MODIFIED:20160301T224131
UID:1873-1457812800-1457826900@www.buchen-sohlbach.de
SUMMARY:Heimatverein: 2. Klönabend 2016
DESCRIPTION:
URL:http://www.buchen-sohlbach.de/ereignis/heimatverein-2-kloenabend-2016/
CATEGORIES:Heimatverein
END:VEVENT
END:VCALENDAR