BEGIN:VCALENDAR
VERSION:2.0
PRODID:-// - ECPv4.0.7//NONSGML v1.0//EN
CALSCALE:GREGORIAN
METHOD:PUBLISH
X-WR-CALNAME:
X-ORIGINAL-URL:http://www.buchen-sohlbach.de
X-WR-CALDESC:Events for 
BEGIN:VEVENT
DTSTART;TZID="Europe/Berlin":20161217T150000
DTEND;TZID="Europe/Berlin":20161217T180000
DTSTAMP:20260423T234939
CREATED:20160105T134636
LAST-MODIFIED:20160105T134636
UID:1595-1481986800-1481997600@www.buchen-sohlbach.de
SUMMARY:Heimatverein: Dörferweihnachtsfeier
DESCRIPTION:
URL:http://www.buchen-sohlbach.de/ereignis/heimatverein-doerferweihnachtsfeier/
CATEGORIES:Heimatverein
END:VEVENT
END:VCALENDAR