BEGIN:VCALENDAR
VERSION:2.0
PRODID:-// - ECPv4.0.7//NONSGML v1.0//EN
CALSCALE:GREGORIAN
METHOD:PUBLISH
X-WR-CALNAME:
X-ORIGINAL-URL:http://www.buchen-sohlbach.de
X-WR-CALDESC:Events for 
BEGIN:VEVENT
DTSTART;TZID="Europe/Berlin":20160227T150000
DTEND;TZID="Europe/Berlin":20160227T170000
DTSTAMP:20260423T235334
CREATED:20151230T174332
LAST-MODIFIED:20160219T224836
UID:1562-1456585200-1456592400@www.buchen-sohlbach.de
SUMMARY:Heimatverein: 30. Jahreshauptversammlung
DESCRIPTION:Hier findest du die Einladung zu unserer 30. Jahreshauptversammlung 2016.\n\nBei Facebook kannst Du die Veranstaltung auch einsehen.\n\nKomm doch auch vorbei\, dafür musst Du nicht Mitglied sein\, um zu erfahren\, was alles neues rund um Dein zuhause geschehen wird.\n\n\n\n
URL:http://www.buchen-sohlbach.de/ereignis/heimatverein-jahreshauptversamlung-2016/
CATEGORIES:Heimatverein
END:VEVENT
END:VCALENDAR