BEGIN:VCALENDAR
VERSION:2.0
PRODID:-// - ECPv4.0.7//NONSGML v1.0//EN
CALSCALE:GREGORIAN
METHOD:PUBLISH
X-WR-CALNAME:
X-ORIGINAL-URL:http://www.buchen-sohlbach.de
X-WR-CALDESC:Events for 
BEGIN:VEVENT
DTSTART;TZID="Europe/Berlin":20160312T150000
DTEND;TZID="Europe/Berlin":20160312T180000
DTSTAMP:20260423T223501
CREATED:20151230T174537
LAST-MODIFIED:20160301T233809
UID:1563-1457794800-1457805600@www.buchen-sohlbach.de
SUMMARY:Heimatverein: Seniorenfeier 2016
DESCRIPTION:
URL:http://www.buchen-sohlbach.de/ereignis/heimatverein-seniorenfeier/
CATEGORIES:Heimatverein
END:VEVENT
END:VCALENDAR