BEGIN:VCALENDAR
VERSION:2.0
PRODID:-// - ECPv4.0.7//NONSGML v1.0//EN
CALSCALE:GREGORIAN
METHOD:PUBLISH
X-WR-CALNAME:
X-ORIGINAL-URL:http://www.buchen-sohlbach.de
X-WR-CALDESC:Events for 
BEGIN:VEVENT
DTSTART;TZID="Europe/Berlin":20160409T110000
DTEND;TZID="Europe/Berlin":20160409T140000
DTSTAMP:20260423T171616
CREATED:20151230T175059
LAST-MODIFIED:20160404T212133
UID:1565-1460199600-1460210400@www.buchen-sohlbach.de
SUMMARY:Heimatverein: Umwelt- / Waldsäuberung
DESCRIPTION:Umwelttag: Es wird Müll mit den Kindern vom Kindergarten gesammelt und es gibt ein Mittagessen im Heimathaus mit Mülleimerbemalung im Anschluss.\n\n
URL:http://www.buchen-sohlbach.de/ereignis/heimatverein-umwelttag/
CATEGORIES:Heimatverein
END:VEVENT
END:VCALENDAR