BEGIN:VCALENDAR
VERSION:2.0
PRODID:-// - ECPv4.0.7//NONSGML v1.0//EN
CALSCALE:GREGORIAN
METHOD:PUBLISH
X-WR-CALNAME:
X-ORIGINAL-URL:http://www.buchen-sohlbach.de
X-WR-CALDESC:Events for 
BEGIN:VEVENT
DTSTART;TZID="Europe/Berlin":20161015T123000
DTEND;TZID="Europe/Berlin":20161015T170000
DTSTAMP:20260423T234544
CREATED:20160929T080812
LAST-MODIFIED:20160929T080812
UID:2335-1476534600-1476550800@www.buchen-sohlbach.de
SUMMARY:Kennenlern - Radtour!
DESCRIPTION:
URL:http://www.buchen-sohlbach.de/ereignis/kennenlern-radtour/
LOCATION:Array
END:VEVENT
END:VCALENDAR