BEGIN:VCALENDAR
VERSION:2.0
PRODID:-// - ECPv4.0.7//NONSGML v1.0//EN
CALSCALE:GREGORIAN
METHOD:PUBLISH
X-WR-CALNAME:
X-ORIGINAL-URL:http://www.buchen-sohlbach.de
X-WR-CALDESC:Events for 
BEGIN:VEVENT
DTSTART;TZID="Europe/Berlin":20160512T130000
DTEND;TZID="Europe/Berlin":20160512T170000
DTSTAMP:20260423T224127
CREATED:20151201T225154
LAST-MODIFIED:20151201T225154
UID:1481-1463058000-1463072400@www.buchen-sohlbach.de
SUMMARY:Landfrauen: Fahrt nach Stift Keppel + Kaffeetrinken im Wärterhaus an der Breitenbach-Talsperre
DESCRIPTION:
URL:http://www.buchen-sohlbach.de/ereignis/landfrauen-fahrt-nach-stift-keppel-kaffeetrinken-im-waerterhaus-an-der-breitenbach-talsperre/
LOCATION:Deutschland
CATEGORIES:Landfrauen
END:VEVENT
END:VCALENDAR