BEGIN:VCALENDAR
VERSION:2.0
PRODID:-// - ECPv4.0.7//NONSGML v1.0//EN
CALSCALE:GREGORIAN
METHOD:PUBLISH
X-WR-CALNAME:
X-ORIGINAL-URL:http://www.buchen-sohlbach.de
X-WR-CALDESC:Events for 
BEGIN:VEVENT
DTSTART;TZID="Europe/Berlin":20160911T110000
DTEND;TZID="Europe/Berlin":20160911T180000
DTSTAMP:20260424T023044
CREATED:20151201T225820
LAST-MODIFIED:20151201T225820
UID:1488-1473591600-1473616800@www.buchen-sohlbach.de
SUMMARY:Landfrauen + Feuerwehr: Kartoffelbratfest bei der Feuerwehr
DESCRIPTION:
URL:http://www.buchen-sohlbach.de/ereignis/landfrauen-feuerwehr-kartoffelbratfest-bei-der-feuerwehr/
CATEGORIES:Landfrauen
END:VEVENT
END:VCALENDAR