BEGIN:VCALENDAR
VERSION:2.0
PRODID:-// - ECPv4.0.7//NONSGML v1.0//EN
CALSCALE:GREGORIAN
METHOD:PUBLISH
X-WR-CALNAME:
X-ORIGINAL-URL:http://www.buchen-sohlbach.de
X-WR-CALDESC:Events for 
BEGIN:VEVENT
DTSTART;TZID="Europe/Berlin":20161110T190000
DTEND;TZID="Europe/Berlin":20161110T210000
DTSTAMP:20260424T011341
CREATED:20151201T230026
LAST-MODIFIED:20151201T230026
UID:1490-1478804400-1478811600@www.buchen-sohlbach.de
SUMMARY:Landfrauen: Glühweinabend im Heimathaus
DESCRIPTION:
URL:http://www.buchen-sohlbach.de/ereignis/landfrauen-gluehweinabend-im-heimathaus/
CATEGORIES:Landfrauen
END:VEVENT
END:VCALENDAR