BEGIN:VCALENDAR
VERSION:2.0
PRODID:-// - ECPv4.0.7//NONSGML v1.0//EN
CALSCALE:GREGORIAN
METHOD:PUBLISH
X-WR-CALNAME:
X-ORIGINAL-URL:http://www.buchen-sohlbach.de
X-WR-CALDESC:Events for 
BEGIN:VEVENT
DTSTART;TZID="Europe/Berlin":20160802T150000
DTEND;TZID="Europe/Berlin":20160802T170000
DTSTAMP:20260424T051911
CREATED:20151201T225550
LAST-MODIFIED:20151201T225550
UID:1486-1470150000-1470157200@www.buchen-sohlbach.de
SUMMARY:Landfrauen: Kindernachmittag auf dem Hof Heide
DESCRIPTION:
URL:http://www.buchen-sohlbach.de/ereignis/landfrauen-kindernachmittag-auf-dem-hof-heide/
CATEGORIES:Landfrauen
END:VEVENT
END:VCALENDAR