BEGIN:VCALENDAR
VERSION:2.0
PRODID:-// - ECPv4.0.7//NONSGML v1.0//EN
CALSCALE:GREGORIAN
METHOD:PUBLISH
X-WR-CALNAME:
X-ORIGINAL-URL:http://www.buchen-sohlbach.de
X-WR-CALDESC:Events for 
BEGIN:VEVENT
DTSTART;TZID="Europe/Berlin":20160310T190000
DTEND;TZID="Europe/Berlin":20160310T220000
DTSTAMP:20260424T000031
CREATED:20151201T224800
LAST-MODIFIED:20151201T225003
UID:1479-1457636400-1457647200@www.buchen-sohlbach.de
SUMMARY:Landfrauen: Spieleabend im Heimathaus
DESCRIPTION:
URL:http://www.buchen-sohlbach.de/ereignis/landfrauen-spieleabend-im-heimathaus/
CATEGORIES:Landfrauen
END:VEVENT
END:VCALENDAR