BEGIN:VCALENDAR
VERSION:2.0
PRODID:-// - ECPv4.0.7//NONSGML v1.0//EN
CALSCALE:GREGORIAN
METHOD:PUBLISH
X-WR-CALNAME:
X-ORIGINAL-URL:http://www.buchen-sohlbach.de
X-WR-CALDESC:Events for 
BEGIN:VEVENT
DTSTART;TZID="Europe/Berlin":20151010T190000
DTEND;TZID="Europe/Berlin":20151010T230000
DTSTAMP:20260423T222317
CREATED:20151014T212056
LAST-MODIFIED:20151014T212056
UID:1251-1444503600-1444518000@www.buchen-sohlbach.de
SUMMARY:Oktoberfest
DESCRIPTION:
URL:http://www.buchen-sohlbach.de/ereignis/oktoberfest/
END:VEVENT
END:VCALENDAR