BEGIN:VCALENDAR
VERSION:2.0
PRODID:-// - ECPv4.0.7//NONSGML v1.0//EN
CALSCALE:GREGORIAN
METHOD:PUBLISH
X-WR-CALNAME:
X-ORIGINAL-URL:http://www.buchen-sohlbach.de
X-WR-CALDESC:Events for 
BEGIN:VEVENT
DTSTART;TZID="Europe/Berlin":20170318T150000
DTEND;TZID="Europe/Berlin":20170318T180000
DTSTAMP:20260424T011234
CREATED:20170902T145602
LAST-MODIFIED:20170902T145602
UID:2627-1489849200-1489860000@www.buchen-sohlbach.de
SUMMARY:Seniorenfeier des Heimatvereins
DESCRIPTION:Seniorenfeier des Heimatvereins im Bürgerhaus Gensterfeld
URL:http://www.buchen-sohlbach.de/ereignis/seniorenfeier-des-heimatvereins/
LOCATION:Array
CATEGORIES:Heimatverein
END:VEVENT
END:VCALENDAR