BEGIN:VCALENDAR
VERSION:2.0
PRODID:-// - ECPv4.0.7//NONSGML v1.0//EN
CALSCALE:GREGORIAN
METHOD:PUBLISH
X-WR-CALNAME:
X-ORIGINAL-URL:http://www.buchen-sohlbach.de
X-WR-CALDESC:Events for 
BEGIN:VEVENT
DTSTART;TZID="Europe/Berlin":20171109T160000
DTEND;TZID="Europe/Berlin":20171109T223000
DTSTAMP:20260424T074010
CREATED:20170902T143808
LAST-MODIFIED:20170902T144855
UID:2623-1510243200-1510266600@www.buchen-sohlbach.de
SUMMARY:Themennachmittag: Gesundheit / Darm gesund - Mensch gesund
DESCRIPTION:Thema : Gesundheit\n\nDarm gesund  - Mensch gesund mit Antje Dietrich
URL:http://www.buchen-sohlbach.de/ereignis/themennachmittag-gesundheit-darm-gesund-mensch-gesund/
LOCATION:Array
CATEGORIES:Heimatverein
END:VEVENT
END:VCALENDAR