BEGIN:VCALENDAR
VERSION:2.0
PRODID:-// - ECPv4.0.7//NONSGML v1.0//EN
CALSCALE:GREGORIAN
METHOD:PUBLISH
X-WR-CALNAME:
X-ORIGINAL-URL:http://www.buchen-sohlbach.de
X-WR-CALDESC:Events for 
BEGIN:VEVENT
DTSTART;TZID="Europe/Berlin":20170706T160000
DTEND;TZID="Europe/Berlin":20170706T223000
DTSTAMP:20260424T072806
CREATED:20170902T154352
LAST-MODIFIED:20170902T154352
UID:2634-1499356800-1499380200@www.buchen-sohlbach.de
SUMMARY:Themennachmittag: Natur - Fließgewässer\, Fischfauna usw.
DESCRIPTION:Thema ; Natur \n\nFließgewässer\, Fischfauna\, Zucht\, Befischung (Angeln usw) vorgetragen von Walter Barthkowiak\n\nKlönabend - Lebendiges Sohlbachtal- Dorfgepflüster
URL:http://www.buchen-sohlbach.de/ereignis/themennachmittag-natur-fliessgewaesser-fischfauna-usw/
LOCATION:Array
CATEGORIES:Heimatverein
END:VEVENT
END:VCALENDAR