BEGIN:VCALENDAR
VERSION:2.0
PRODID:-// - ECPv4.0.7//NONSGML v1.0//EN
CALSCALE:GREGORIAN
METHOD:PUBLISH
X-WR-CALNAME:
X-ORIGINAL-URL:http://www.buchen-sohlbach.de
X-WR-CALDESC:Events for 
BEGIN:VEVENT
DTSTART;TZID="Europe/Berlin":20170803T160000
DTEND;TZID="Europe/Berlin":20170803T223000
DTSTAMP:20260424T061406
CREATED:20170902T155135
LAST-MODIFIED:20170902T155135
UID:2636-1501776000-1501799400@www.buchen-sohlbach.de
SUMMARY:Themennachmittag:  Schwedenfeuer
DESCRIPTION:Faszination Schwedenfeuer - eine andere Art des Lagerfeuers\n\nJan -Michel Gieseler informiert
URL:http://www.buchen-sohlbach.de/ereignis/themennachmittag-schwedenfeuer/
LOCATION:Array
CATEGORIES:Heimatverein
END:VEVENT
END:VCALENDAR