BEGIN:VCALENDAR
VERSION:2.0
PRODID:-// - ECPv4.0.7//NONSGML v1.0//EN
CALSCALE:GREGORIAN
METHOD:PUBLISH
X-WR-CALNAME:
X-ORIGINAL-URL:http://www.buchen-sohlbach.de
X-WR-CALDESC:Events for 
BEGIN:VEVENT
DTSTART;TZID="Europe/Berlin":20170907T160000
DTEND;TZID="Europe/Berlin":20170907T223000
DTSTAMP:20260424T072707
CREATED:20170902T141136
LAST-MODIFIED:20170902T141136
UID:2617-1504800000-1504823400@www.buchen-sohlbach.de
SUMMARY:Themennachmittag - Spitzentechnologie im Sohlbachtal
DESCRIPTION:Der nächste Themennachmittag findet Donnerstag\, 7. September 2017 statt. Im Anschluss an den Vortrag  Diskussion- Klönabend. Es ist uns gelungen\, die Firma Microdrones für diesen Technikvortrag zu gewinnen.
URL:http://www.buchen-sohlbach.de/ereignis/themennachmittag-spitzentechnologie-im-sohlbachtal/
LOCATION:Array
CATEGORIES:Heimatverein
END:VEVENT
END:VCALENDAR