BEGIN:VCALENDAR
VERSION:2.0
PRODID:-// - ECPv4.0.7//NONSGML v1.0//EN
CALSCALE:GREGORIAN
METHOD:PUBLISH
X-WR-CALNAME:
X-ORIGINAL-URL:http://www.buchen-sohlbach.de
X-WR-CALDESC:Events for 
BEGIN:VEVENT
DTSTART;TZID="Europe/Berlin":20171028T180000
DTEND;TZID="Europe/Berlin":20171028T220000
DTSTAMP:20260424T090921
CREATED:20170830T074559
LAST-MODIFIED:20170902T133611
UID:2608-1509213600-1509228000@www.buchen-sohlbach.de
SUMMARY:Traditionelles Backschinkenessen im Bürgerhaus Gensterfeld
DESCRIPTION:Der Heimatverein lädt alle Bürgerinnen und Bürger aus Buchen- Sohlbach zum traditionellen Backschinkenessen. Auch Freunde und Bekannte sind herzlich eingeladen. Aus organisatorischen Gründen ist es notwendig sich bis zum 10.Oktober bei Ilka Haas \, Gutenbergstraße 97a\, 57078 Siegen anzumelden. Die Vorankündigung mit Anmeldeabschnitt\, wird in Kürze als Hauswurfsendung (DIN A5) verteilt. Auch in unseren vier Schaukästen  erfolgt eine rechtzeitige Veröffentlichung.\n\n\n\n 
URL:http://www.buchen-sohlbach.de/ereignis/traditionelles-backschinkenessen-im-buergerhaus-gensterfeld/
LOCATION:Array
CATEGORIES:Heimatverein
END:VEVENT
END:VCALENDAR